BEGIN:VCALENDAR
VERSION:2.0
PRODID:-//demosphere.net//NONSGML kigkonsult.se iCalcreator 2.22.1//
METHOD:REQUEST
X-WR-TIMEZONE:Europe/Paris
BEGIN:VEVENT
UID:https://berry.demosphere.net/rv/2186
DTSTAMP:20260501T093000Z
DESCRIPTION:plus d'infos sur : https://berry.demosphere.net/rv/2186
DTSTART:20260501T093000Z
DTEND:20260501T103000Z
LOCATION:Bourges\, \nLieu à définir
SUMMARY:Le TRAVAIL est une PRISON\, syndicats ET politiques les MATONS
URL:https://berry.demosphere.net/rv/2186
END:VEVENT
END:VCALENDAR
