BEGIN:VCALENDAR
VERSION:2.0
PRODID:-//demosphere.net//NONSGML kigkonsult.se iCalcreator 2.22.1//
METHOD:REQUEST
X-WR-TIMEZONE:Europe/Paris
BEGIN:VEVENT
UID:https://berry.demosphere.net/rv/2187
DTSTAMP:20260502T180000Z
DESCRIPTION:plus d'infos sur : https://berry.demosphere.net/rv/2187
DTSTART:20260502T180000Z
DTEND:20260502T190000Z
GEO:+47.083729;+2.394309
LOCATION:Bourges\, \nThéâtre Jacques Coeur\, 16 rue Jacques Coeur\, 18000 B
 ourges
SUMMARY:Femme vie liberté
URL:https://berry.demosphere.net/rv/2187
END:VEVENT
END:VCALENDAR
