BEGIN:VCALENDAR
VERSION:2.0
PRODID:-//demosphere.net//NONSGML kigkonsult.se iCalcreator 2.22.1//
METHOD:REQUEST
X-WR-TIMEZONE:Europe/Paris
BEGIN:VEVENT
UID:https://berry.demosphere.net/rv/2188
DTSTAMP:20260429T170000Z
DESCRIPTION:plus d'infos sur : https://berry.demosphere.net/rv/2188
DTSTART:20260429T170000Z
DTEND:20260429T180000Z
GEO:+47.07894;+2.395961
LOCATION:Bourges\, \namphithéâtre du Muséum d'Histoire Naturelle \nRue René
  Ménard\, 18000 Bourges
SUMMARY:Stop arming Israel
URL:https://berry.demosphere.net/rv/2188
END:VEVENT
END:VCALENDAR
