BEGIN:VCALENDAR
VERSION:2.0
PRODID:-//demosphere.net//NONSGML kigkonsult.se iCalcreator 2.22.1//
METHOD:REQUEST
X-WR-TIMEZONE:Europe/Paris
BEGIN:VEVENT
UID:https://berry.demosphere.net/rv/2189
DTSTAMP:20260505T170000Z
DESCRIPTION:plus d'infos sur : https://berry.demosphere.net/rv/2189
DTSTART:20260505T170000Z
DTEND:20260505T180000Z
LOCATION:Vierzon\, \nSalle du Beffroi \nVierzon
SUMMARY:Café Repaire
URL:https://berry.demosphere.net/rv/2189
END:VEVENT
END:VCALENDAR
