BEGIN:VCALENDAR
VERSION:2.0
PRODID:-//demosphere.net//NONSGML kigkonsult.se iCalcreator 2.22.1//
METHOD:REQUEST
X-WR-TIMEZONE:Europe/Paris
BEGIN:VEVENT
UID:https://berry.demosphere.net/rv/495
DTSTAMP:20160318T193000Z
DESCRIPTION:plus d'infos sur : https://berry.demosphere.net/rv/495
DTSTART:20160318T193000Z
DTEND:20160318T203000Z
LOCATION:Saint Martin d'Auxigny\, \nSalle des fêtes de Saint Martin d'Auxig
 ny
SUMMARY:Le Maniement des Larmes Théâtre documentaire - Le Carroi
URL:https://berry.demosphere.net/rv/495
END:VEVENT
END:VCALENDAR
