BEGIN:VCALENDAR
VERSION:2.0
PRODID:-//demosphere.net//NONSGML kigkonsult.se iCalcreator 2.22.1//
METHOD:REQUEST
X-WR-TIMEZONE:Europe/Paris
BEGIN:VEVENT
UID:https://berry.demosphere.net/rv/521
DTSTAMP:20160331T180000Z
DESCRIPTION:plus d'infos sur : https://berry.demosphere.net/rv/521
DTSTART:20160331T180000Z
DTEND:20160331T190000Z
GEO:+47.083729;+2.394309
LOCATION:Bourges\, \nThéâtre Jacques Coeur\, 16 rue Jacques Coeur\, 18000 B
 ourges
SUMMARY:Concert Duo Madarat
URL:https://berry.demosphere.net/rv/521
END:VEVENT
END:VCALENDAR
